BEGIN:VCALENDAR
VERSION:2.0
PRODID:-//Puerto Rico Minority Supplier Development Council - ECPv6.15.20//NONSGML v1.0//EN
CALSCALE:GREGORIAN
METHOD:PUBLISH
X-WR-CALNAME:Puerto Rico Minority Supplier Development Council
X-ORIGINAL-URL:https://prmsdc.org
X-WR-CALDESC:Events for Puerto Rico Minority Supplier Development Council
REFRESH-INTERVAL;VALUE=DURATION:PT1H
X-Robots-Tag:noindex
X-PUBLISHED-TTL:PT1H
BEGIN:VTIMEZONE
TZID:America/Puerto_Rico
BEGIN:STANDARD
TZOFFSETFROM:-0400
TZOFFSETTO:-0400
TZNAME:AST
DTSTART:20240101T000000
END:STANDARD
END:VTIMEZONE
BEGIN:VEVENT
DTSTART;VALUE=DATE:20251212
DTEND;VALUE=DATE:20251214
DTSTAMP:20260423T154450
CREATED:20250520T172801Z
LAST-MODIFIED:20250520T172801Z
UID:29304-1765501200-1765587599@prmsdc.org
SUMMARY:Scholarship Fund Award Ceremony
DESCRIPTION:EMPOWERING THE FUTURE THROUGH EDUCATION\nAt PRMSDC\, we understand the financial challenges faced by employees of certified Minority Business Enterprises (MBEs). Our Scholarship Program is designed to help ease that burden\, offering students not only economic relief\, but also the confidence to pursue their goals and shape a brighter future. \nThrough this initiative\, we are committed to empowering young talent\, encouraging them to make a positive impact in their communities and contribute to Puerto Rico’s long-term economic growth. \n🎓 Join us for this special awards ceremony as we honor the recipients and celebrate the transformative power of education.Together\, we can help more students advance in their careers — and their lives. \n\n\n\nFor more information and registration\, please contact:\nCarmen Peña\ncpena@prmsdc.org\n(787) 303-7265
URL:https://prmsdc.org/event/scholarship-fund-award-ceremony/
CATEGORIES:Awards
ATTACH;FMTTYPE=image/jpeg:https://prmsdc.org/wp-content/uploads/2025/05/feature-images-scholarship-award.jpg
END:VEVENT
BEGIN:VEVENT
DTSTART;TZID=America/Puerto_Rico:20251205T110000
DTEND;TZID=America/Puerto_Rico:20251205T143000
DTSTAMP:20260423T154450
CREATED:20250303T234902Z
LAST-MODIFIED:20250917T160641Z
UID:28817-1764932400-1764945000@prmsdc.org
SUMMARY:Recognition Awards Event: December 2025
DESCRIPTION:Celebrating Excellence in Business\nThe Recognition Awards is a prestigious event hosted by the PRMSDC to honor visionary leaders and certified enterprises achievements\, showcasing their exceptional dedication to excellence and social responsibility.  \nThis signature gathering celebrates the remarkable contributions of Puerto Rico’s trailblazers\, whose efforts have significantly impacted the island’s economy. It also highlights the corporations and individuals who champion business development and growth. \nBeyond recognition\, the event is a powerful networking opportunity\, bringing together key stakeholders\, corporate members\, and MBE leaders to build relationships and ignite business growth. \nJoin us in celebrating innovation\, leadership\, and the collective impact of businesses in today’s economy. \nInvestment:\n\nMBEs: $125\nCorporate Members: $150\nGeneral Public: $150\n\nIncludes cocktail reception\, formal lunch\, and the Recognition Ceremony. \nSpecial discount available for tables of 8. \nSponsorship and ad space available in the official event program. \nREGISTER NOW\nFor more information\, please contact:\nCarmen Peña\ncpena@prmsdc.org\n(787) 303-7265 \n \nCELEBRANDO LA EXCELENCIA EN LOS NEGOCIOS\nLos Recognition Awards son un prestigioso evento organizado por el PRMSDC para honrar a líderes visionarios y reconocer los logros de empresas certificadas\, destacando su excepcional compromiso con la excelencia y la responsabilidad social. \nEste evento emblemático celebra las notables contribuciones de los pioneros de Puerto Rico\, cuyos esfuerzos han impactado significativamente la economía de la isla. También resalta a las corporaciones e individuos que promueven el desarrollo y crecimiento empresarial. \nMás allá del reconocimiento\, este encuentro es una poderosa oportunidad de networking\, reuniendo a líderes de MBEs\, miembros corporativos y actores clave para fortalecer relaciones e impulsar el crecimiento de negocios. \nÚnete a nosotros para celebrar la innovación\, el liderazgo y el impacto colectivo de los negocios en la economía actual. \nINVERSIÓN:\n\n\nMBEs: $125 \n\n\nMiembros Corporativos: $150 \n\n\nPúblico General: $150 \n\n\nIncluye recepción con cóctel\, almuerzo formal y la Ceremonia de Reconocimiento. \nDescuento especial disponible para mesas de 8 personas. \nOportunidades de auspicio y espacios publicitarios disponibles en el programa oficial del evento. \n📩 INSCRÍBETE AHORA \nPara más información\, favor de comunicarse con:Carmen Peña📧 cpena@prmsdc.org📞 (787) 303-7265
URL:https://prmsdc.org/event/recognition-awards-event-december-2025/
LOCATION:Royal Sonesta Hotel\, 5961 Av. Isla Verde\, Carolina\, 00979\, Puerto Rico
CATEGORIES:Awards
ATTACH;FMTTYPE=image/jpeg:https://prmsdc.org/wp-content/uploads/2025/03/feature-images-RAE.jpg
END:VEVENT
END:VCALENDAR