BEGIN:VCALENDAR
VERSION:2.0
PRODID:-//Puerto Rico Minority Supplier Development Council - ECPv6.15.20//NONSGML v1.0//EN
CALSCALE:GREGORIAN
METHOD:PUBLISH
X-ORIGINAL-URL:https://prmsdc.org
X-WR-CALDESC:Events for Puerto Rico Minority Supplier Development Council
REFRESH-INTERVAL;VALUE=DURATION:PT1H
X-Robots-Tag:noindex
X-PUBLISHED-TTL:PT1H
BEGIN:VTIMEZONE
TZID:America/Puerto_Rico
BEGIN:STANDARD
TZOFFSETFROM:-0400
TZOFFSETTO:-0400
TZNAME:AST
DTSTART:20230101T000000
END:STANDARD
END:VTIMEZONE
BEGIN:VEVENT
DTSTART;TZID=America/Puerto_Rico:20260417T070000
DTEND;TZID=America/Puerto_Rico:20260417T180000
DTSTAMP:20260423T181718
CREATED:20251119T201323Z
LAST-MODIFIED:20260206T132932Z
UID:29946-1776409200-1776448800@prmsdc.org
SUMMARY:Business Opportunity Exchange 2026
DESCRIPTION:Ready to Grow Your Business?\nImpact Sourcing: Where Business Meets Purpose isn’t just our tagline — it defines everything that happens at the Business Opportunity Exchange (BOE). \nThis year’s event takes place on April 17\, 2026\, at the Wyndham Grand Rio Mar\, where hundreds of entrepreneurs\, corporate executives\, public sector leaders\, and business owners will come together for a full day of powerful connections\, opportunity creation\, and purpose-driven collaboration. \nBOE 2026 is Puerto Rico’s leading platform for business growth\, featuring exhibitor showcases\, high-level networking\, and direct access to decision-makers from across industries.Whether you’re a supplier\, exhibitor\, or corporate participant\, this is your moment to connect\, engage\, and create measurable impact. \n🌐 Explore the BOE 2026 page for event details\, sponsorship\, and exhibitor opportunities \n📌 Registration Details\nRegistration for BOE 2026 will open soon. Stay connected to our website and social channels for the official announcement. \nIn the meantime\, for more information or to express your interest: \n📧 Contact: Carmen Peña✉️ cpena@prmsdc.org📞 (787) 303-7265 \n\n🔄 Looking for past event info?\nClick here to visit the BOE 2025 page
URL:https://prmsdc.org/event/business-opportunity-exchange-2026/
LOCATION:Wyndham Grand Río Mar\, Río Grande\, Wyndham Grand Río Mar\, Río Grande\, Puerto Rico
CATEGORIES:Business Connect,Conference
ATTACH;FMTTYPE=image/jpeg:https://prmsdc.org/wp-content/uploads/2025/11/feature-images-BOE26.jpg
END:VEVENT
BEGIN:VEVENT
DTSTART;VALUE=DATE:20250321
DTEND;VALUE=DATE:20250322
DTSTAMP:20260423T181718
CREATED:20250205T201317Z
LAST-MODIFIED:20250216T183638Z
UID:27034-1742515200-1742601599@prmsdc.org
SUMMARY:Business Opportunity Exchange 2025
DESCRIPTION:The Business Opportunity Exchange (BOE) is Puerto Rico’s premier event for building business connections and unlocking new opportunities. Bringing together over 200 participants—including minority entrepreneurs\, corporate leaders\, private entities\, and government agencies—the BOE serves as a powerful platform for collaboration and growth. \nThis year\, the event returns on March 21st. to the beautiful Wyndham Rio Mar\, where attendees will experience an energetic atmosphere that fosters networking\, strategic partnerships\, and innovation. The BOE continues to highlight the strength of business relationships and the potential for lasting\, impactful connections. \nClick here to visit the BOE 2025 page \nFor more information and registration\, please contact:\nCarmen Peña\ncpena@prmsdc.org\n(787) 303-7265
URL:https://prmsdc.org/event/business-opportunity-exchange-2025/
LOCATION:Wyndham Grand Río Mar\, Río Grande\, Wyndham Grand Río Mar\, Río Grande\, Puerto Rico
CATEGORIES:Business Connect,Conference
ATTACH;FMTTYPE=image/jpeg:https://prmsdc.org/wp-content/uploads/2025/02/feature-images-BOE.jpg
END:VEVENT
BEGIN:VEVENT
DTSTART;TZID=America/Puerto_Rico:20241206T120000
DTEND;TZID=America/Puerto_Rico:20241206T120000
DTSTAMP:20260423T181718
CREATED:20241126T210043Z
LAST-MODIFIED:20241126T210321Z
UID:26451-1733486400-1733486400@prmsdc.org
SUMMARY:Business Connect / Meet & Greet
DESCRIPTION:Puerto Rico Minority Supplier Development Council hosted the Business Connect / Meet & Greet on the 6th of December 2024.
URL:https://prmsdc.org/event/business-connect-meet-greet-2/
CATEGORIES:Business Connect
END:VEVENT
BEGIN:VEVENT
DTSTART;TZID=America/Puerto_Rico:20240913T110000
DTEND;TZID=America/Puerto_Rico:20240913T110000
DTSTAMP:20260423T181718
CREATED:20241126T190750Z
LAST-MODIFIED:20241126T201720Z
UID:26425-1726225200-1726225200@prmsdc.org
SUMMARY:Business Connect
DESCRIPTION:Puerto Rico Minority Supplier Development Council hosted the Business Connect on the 13th of September 2024.
URL:https://prmsdc.org/event/business-connect-2/
CATEGORIES:Business Connect
END:VEVENT
END:VCALENDAR