BEGIN:VCALENDAR
VERSION:2.0
PRODID:-//Puerto Rico Minority Supplier Development Council - ECPv6.15.20//NONSGML v1.0//EN
CALSCALE:GREGORIAN
METHOD:PUBLISH
X-WR-CALNAME:Puerto Rico Minority Supplier Development Council
X-ORIGINAL-URL:https://prmsdc.org
X-WR-CALDESC:Events for Puerto Rico Minority Supplier Development Council
REFRESH-INTERVAL;VALUE=DURATION:PT1H
X-Robots-Tag:noindex
X-PUBLISHED-TTL:PT1H
BEGIN:VTIMEZONE
TZID:America/Puerto_Rico
BEGIN:STANDARD
TZOFFSETFROM:-0400
TZOFFSETTO:-0400
TZNAME:AST
DTSTART:20230101T000000
END:STANDARD
END:VTIMEZONE
BEGIN:VEVENT
DTSTART;TZID=America/Puerto_Rico:20240315T110000
DTEND;TZID=America/Puerto_Rico:20240315T110000
DTSTAMP:20260425T171409
CREATED:20241124T174114Z
LAST-MODIFIED:20241124T174143Z
UID:26358-1710500400-1710500400@prmsdc.org
SUMMARY:Business Opportunity Exchange
DESCRIPTION:Puerto Rico Minority Supplier Development Council hosted the Business Opportunity Exchange on the 15th of March 2024.
URL:https://prmsdc.org/event/business-opportunity-exchange/
LOCATION:Wyndham Grand Río Mar\, Río Grande\, Wyndham Grand Río Mar\, Río Grande\, Puerto Rico
END:VEVENT
BEGIN:VEVENT
DTSTART;TZID=America/Puerto_Rico:20240319T110000
DTEND;TZID=America/Puerto_Rico:20240319T110000
DTSTAMP:20260425T171409
CREATED:20241124T173840Z
LAST-MODIFIED:20241124T173840Z
UID:26355-1710846000-1710846000@prmsdc.org
SUMMARY:Pre-Orientation Workshop
DESCRIPTION:Puerto Rico Minority Supplier Development Council hosted the Pre-Orientation Workshop on the 19th of March 2024.
URL:https://prmsdc.org/event/pre-orientation-workshop-2/
LOCATION:Royal Sonesta Hotel\, 5961 Av. Isla Verde\, Carolina\, 00979\, Puerto Rico
END:VEVENT
BEGIN:VEVENT
DTSTART;TZID=America/Puerto_Rico:20240321T110000
DTEND;TZID=America/Puerto_Rico:20240321T110000
DTSTAMP:20260425T171409
CREATED:20241124T174313Z
LAST-MODIFIED:20241124T174313Z
UID:26362-1711018800-1711018800@prmsdc.org
SUMMARY:MBEIC Meeting
DESCRIPTION:Puerto Rico Minority Supplier Development Council hosted our MBEIC Meeting on the 21st of March 2024.
URL:https://prmsdc.org/event/mbeic-meeting-4/
LOCATION:PR
END:VEVENT
BEGIN:VEVENT
DTSTART;TZID=America/Puerto_Rico:20240326T110000
DTEND;TZID=America/Puerto_Rico:20240326T110000
DTSTAMP:20260425T171409
CREATED:20241124T174509Z
LAST-MODIFIED:20241124T193412Z
UID:26365-1711450800-1711450800@prmsdc.org
SUMMARY:MBE General Orientation
DESCRIPTION:Puerto Rico Minority Supplier Development Council hosted our MBE General Orientation on the 26th of March 2024.
URL:https://prmsdc.org/event/mbe-general-orientation-3/
LOCATION:PR
END:VEVENT
END:VCALENDAR