BEGIN:VCALENDAR
VERSION:2.0
PRODID:-//Puerto Rico Minority Supplier Development Council - ECPv6.15.20//NONSGML v1.0//EN
CALSCALE:GREGORIAN
METHOD:PUBLISH
X-WR-CALNAME:Puerto Rico Minority Supplier Development Council
X-ORIGINAL-URL:https://prmsdc.org
X-WR-CALDESC:Events for Puerto Rico Minority Supplier Development Council
REFRESH-INTERVAL;VALUE=DURATION:PT1H
X-Robots-Tag:noindex
X-PUBLISHED-TTL:PT1H
BEGIN:VTIMEZONE
TZID:America/Puerto_Rico
BEGIN:STANDARD
TZOFFSETFROM:-0400
TZOFFSETTO:-0400
TZNAME:AST
DTSTART:20250101T000000
END:STANDARD
END:VTIMEZONE
BEGIN:VEVENT
DTSTART;TZID=America/Puerto_Rico:20260310T090000
DTEND;TZID=America/Puerto_Rico:20260310T103000
DTSTAMP:20260425T182625
CREATED:20260108T134614Z
LAST-MODIFIED:20260108T175729Z
UID:30039-1773133200-1773138600@prmsdc.org
SUMMARY:Get MBE Certified – March 2026
DESCRIPTION:Ready to Get Certified?\nBecome a PRMSDC Certified Minority Business Enterprise (MBE) and open new doors for business growth.(versión en español más abajo) \nAre you interested in becoming a certified business with PRMSDC?Our team is here to guide you every step of the way. \n🧭 During this Pre-Certification Orientation Webinar\, you’ll learn:\n\n\nHow the certification process works \n\n\nWhat documents are required and how to prepare them \n\n\nKey resources to support your application \n\n\nHow MBE certification connects you to new business opportunities and corporate partnerships \n\n\n🎙️ Guest Speaker:Joseph Rosales-RodríguezSection 3 Coordinator | Federal Compliance and Subrecipient ManagementPuerto Rico Department of Housing \nThis interactive session is designed to give you clarity\, confidence\, and live access to our team for Q&A. \n🌟 Program Highlights\n✔️ Step-by-step application guidance✔️ Tips on document preparation✔️ MBE certification benefits✔️ Live Q&A with the PRMSDC team✔️ Monthly virtual sessions via Microsoft Teams \nTake the first step toward certification.👉 Register now!PRMSDC — The Platform for Your Success \n¿Listo(a) para certificar su negocio?\nConviértase en una Empresa Certificada por el PRMSDC (MBE) y abra nuevas oportunidades de crecimiento. \n¿Está interesado(a) en obtener la certificación de PRMSDC?Nuestro equipo está aquí para guiarle paso a paso. \n🧭 En este Webinar de Orientación Pre-Certificación\, conocerá:\n\n\nCómo funciona el proceso de certificación \n\n\nQué documentos se requieren y cómo prepararlos \n\n\nRecursos clave que le apoyarán en su solicitud \n\n\nCómo la certificación MBE le conecta con nuevas oportunidades y alianzas corporativas \n\n\n🎙️ Orador invitado:Joseph Rosales RodríguezCoordinador Sección 3 | Cumplimiento Federal y Manejo de SubrecipientesDepartamento de la Vivienda de Puerto Rico \nEsta sesión interactiva está diseñada para ofrecerle claridad\, seguridad y respuestas en vivo de parte de nuestro equipo. \n🌟 Aspectos destacados del programa\n✔️ Guía paso a paso sobre el proceso de solicitud✔️ Consejos para preparar su documentación✔️ Beneficios de obtener la certificación MBE✔️ Preguntas y respuestas en vivo con el equipo de PRMSDC✔️ Sesiones virtuales mensuales vía Microsoft Teams \nDé el primer paso hacia la certificación.👉 Regístrese hoy.PRMSDC — La Plataforma para Tu Éxito \n  \nFor more information\, please contact:\nCarmen Peña\ncpena@prmsdc.org\n(787) 303-7265
URL:https://prmsdc.org/event/get-mbe-certified-march-2026/
LOCATION:PR
CATEGORIES:Pre-Orientation Workshop
ATTACH;FMTTYPE=image/jpeg:https://prmsdc.org/wp-content/uploads/2025/02/feature-images-PO-Workshop.jpg
END:VEVENT
BEGIN:VEVENT
DTSTART;TZID=America/Puerto_Rico:20260318T150000
DTEND;TZID=America/Puerto_Rico:20260318T163000
DTSTAMP:20260425T182625
CREATED:20260305T204033Z
LAST-MODIFIED:20260305T204033Z
UID:30340-1773846000-1773851400@prmsdc.org
SUMMARY:MBEIC Meeting: March 2026
DESCRIPTION:The MBE Input Committee (MBEIC) is composed of certified Minority Business Enterprise (MBE) representatives who provide essential insight to ensure that PRMSDC’s programs and initiatives align with the real needs of our business community. \nThrough open dialogue and strategic collaboration\, the committee helps drive the growth and development of minority-owned businesses across Puerto Rico. \n💼 Get involved!These meetings are open to all PRMSDC-certified MBEs who want to take an active role in shaping initiatives that expand opportunities and strengthen the local business ecosystem. \nJoin the conversation — and help move our mission forward at the Puerto Rico Minority Supplier Development Council (PRMSDC). \nFor more information and registration\, please contact:\nCarmen Peña\ncpena@prmsdc.org\n(787) 303-7265
URL:https://prmsdc.org/event/mbeic-meeting-march-2026/
LOCATION:Microsoft Teams
CATEGORIES:MBEIC Meeting
ATTACH;FMTTYPE=image/jpeg:https://prmsdc.org/wp-content/uploads/2025/02/feature-images-MBEIC.jpg
END:VEVENT
BEGIN:VEVENT
DTSTART;TZID=America/Puerto_Rico:20260325T150000
DTEND;TZID=America/Puerto_Rico:20260325T153000
DTSTAMP:20260425T182625
CREATED:20260305T195725Z
LAST-MODIFIED:20260320T190113Z
UID:30329-1774450800-1774452600@prmsdc.org
SUMMARY:30 Minutes Power Break-March 2026
DESCRIPTION:Women Leading Change\n(Spanish version below) \nIn just 30 powerful minutes\, hear from two accomplished entrepreneurs — the current and former Chairs of the PRMSDC Minority Business Enterprise Input Committee (MBEIC) — as they share their journeys of leadership\, growth\, and impact within the business community. \nIn celebration of International Women’s Month\, join us for a dynamic conversation about leadership\, entrepreneurship\, and the role women business owners play in shaping the future of supplier communities. \n✨ Hear real stories of collaboration\, advocacy\, and business growth✨ Gain insights from two women leaders driving change in our business community✨ Learn about key achievements and impact within the Council \nListen as both leaders reflect on their experiences\, share lessons learned along the way\, and highlight the opportunities that come from being part of a strong entrepreneurial network. \nDON’T MISS THIS POWERBREAK-Where leadership insights turn into opportunities.\nInterested in sharing your own success story? You could be next.This platform is open to PRMSDC-certified suppliers who want to showcase how strategic partnerships and collaboration are driving real results. \n💡 Join us to learn from your peers\, discover new ideas\, and strengthen the MBE network in Puerto Rico. \nFor more information\, please contact:\nCarmen Peña\ncpena@prmsdc.org\n(787) 303-7265 \nFollow us on Facebook to stay updated on our latest news\, events\, and opportunities. \n  \n \nMUJERES LIDERANDO EL CAMBIO\nEn solo 30 poderosos minutos\, escucha a dos destacadas empresarias — la presidenta actual y la expresidenta del Minority Business Enterprise Input Committee (MBEIC) de PRMSDC — compartir sus trayectorias de liderazgo\, crecimiento e impacto dentro de la comunidad empresarial. \nEn celebración del Mes Internacional de la Mujer\, acompáñanos en una conversación dinámica sobre liderazgo\, emprendimiento y el papel que desempeñan las mujeres empresarias en la construcción del futuro de las comunidades de suplidores. \n✨ Escucha historias reales de colaboración\, liderazgo y crecimiento empresarial✨ Conoce las perspectivas de dos líderes que impulsan cambios en nuestra comunidad empresarial✨ Descubre logros e impacto dentro del Concilio \nAcompáñanos mientras ambas líderes reflexionan sobre sus experiencias\, comparten las lecciones aprendidas en su camino y destacan las oportunidades que surgen al formar parte de una sólida red empresarial. \nNO TE PIERDAS ESTE POWERBREAK-Donde las experciencias de liderazgo se convierten en oportunidades.\n¿Te gustaría compartir tu propia historia de éxito? ¡Tú podrías ser el próximo!Esta plataforma está abierta a suplidores certificados por PRMSDC que deseen mostrar cómo las alianzas estratégicas y la colaboración están generando resultados reales. \n💡 Únete para aprender de tus pares\, descubrir nuevas ideas y fortalecer la red de MBEs en Puerto Rico. \nSíguenos en Facebook para mantenerte al día con nuestras últimas noticias\, eventos y oportunidades. \nPara más información\, favor de comunicarse con:Carmen Peñacpena@prmsdc.org(787) 303-7265
URL:https://prmsdc.org/event/mbe2mbe-30-minutes-power-break-march-2026/
LOCATION:PR
CATEGORIES:MBE2MBE Power Break
ATTACH;FMTTYPE=image/jpeg:https://prmsdc.org/wp-content/uploads/2025/03/feature-images-Powerbreaks.jpg
END:VEVENT
BEGIN:VEVENT
DTSTART;TZID=America/Puerto_Rico:20260326T100000
DTEND;TZID=America/Puerto_Rico:20260326T113000
DTSTAMP:20260425T182625
CREATED:20260320T190636Z
LAST-MODIFIED:20260320T203758Z
UID:30433-1774519200-1774524600@prmsdc.org
SUMMARY:Taller con PRIMEX-marzo 2026
DESCRIPTION:Servicios de Alto Impacto a la Manufactura Local\n¿Quieres mejorar tus procesos\, reducir costos y mantenerte competitivo? \nTe invitamos a nuestro taller presencial “Servicios de Alto Impacto a la Manufactura Local”\, donde conocerás herramientas prácticas que están transformando la industria. \nEn solo 1 hora\, obtendrás conocimientos que podrás aplicar —ya sea en tu empresa o en tu desarrollo profesional. \n🚀 Herramientas adaptables\n✔ Lean Manufacturing\n✔ Toyota Kata\n✔ Estrategias para manejar fluctuaciones arancelarias\n✔ Inteligencia Artificial aplicada a procesos \n🤝 Networking incluido\nConecta con profesionales\, empresarios y personas interesadas en la industria manufacturera en Puerto Rico. \n🔥 Importante\nSi te interesa la manufactura\, la innovación o mejorar procesos—este taller es para ti. \n🎟️ Evento libre de costo👥 Abierto al público \nRegístrate HOY:\nCarmen Peña\ncpena@prmsdc.org\n(787) 303-7265 \n 
URL:https://prmsdc.org/event/taller-con-primex-marzo-2026/
LOCATION:PRMSDC Meeting Room\, 1225 Ave. Ponce de León VIG Tower\, Suite 1505\, San Juan\, PR\, 00907\, Puerto Rico
CATEGORIES:MBE2MBE Power Break
ATTACH;FMTTYPE=image/jpeg:https://prmsdc.org/wp-content/uploads/2026/03/feature-images-PRIMEX.jpg
END:VEVENT
END:VCALENDAR