BEGIN:VCALENDAR
VERSION:2.0
PRODID:-//Puerto Rico Minority Supplier Development Council - ECPv6.15.20//NONSGML v1.0//EN
CALSCALE:GREGORIAN
METHOD:PUBLISH
X-WR-CALNAME:Puerto Rico Minority Supplier Development Council
X-ORIGINAL-URL:https://prmsdc.org
X-WR-CALDESC:Events for Puerto Rico Minority Supplier Development Council
REFRESH-INTERVAL;VALUE=DURATION:PT1H
X-Robots-Tag:noindex
X-PUBLISHED-TTL:PT1H
BEGIN:VTIMEZONE
TZID:America/Puerto_Rico
BEGIN:STANDARD
TZOFFSETFROM:-0400
TZOFFSETTO:-0400
TZNAME:AST
DTSTART:20250101T000000
END:STANDARD
END:VTIMEZONE
BEGIN:VEVENT
DTSTART;TZID=America/Puerto_Rico:20260915T090000
DTEND;TZID=America/Puerto_Rico:20260915T103000
DTSTAMP:20260425T234446
CREATED:20260108T141124Z
LAST-MODIFIED:20260109T123416Z
UID:30057-1789462800-1789468200@prmsdc.org
SUMMARY:Get MBE Certified – September 2026
DESCRIPTION:Ready to Get Certified?\nBecome a PRMSDC Certified Minority Business Enterprise (MBE) and open new doors for business growth.(versión en español más abajo) \nAre you interested in becoming a certified business with PRMSDC?Our team is here to guide you every step of the way. \n🧭 During this Pre-Certification Orientation Webinar\, you’ll learn:\n\n\nHow the certification process works \n\n\nWhat documents are required and how to prepare them \n\n\nKey resources to support your application \n\n\nHow MBE certification connects you to new business opportunities and corporate partnerships \n\n\n🎙️ Guest Speaker:Joseph Rosales-RodríguezSection 3 Coordinator | Federal Compliance and Subrecipient ManagementPuerto Rico Department of Housing \nThis interactive session is designed to give you clarity\, confidence\, and live access to our team for Q&A. \n🌟 Program Highlights\n✔️ Step-by-step application guidance✔️ Tips on document preparation✔️ MBE certification benefits✔️ Live Q&A with the PRMSDC team✔️ Monthly virtual sessions via Microsoft Teams \nTake the first step toward certification.👉 Register now!PRMSDC — The Platform for Your Success \n¿Listo(a) para certificar su negocio?\nConviértase en una Empresa Certificada por el PRMSDC (MBE) y abra nuevas oportunidades de crecimiento. \n¿Está interesado(a) en obtener la certificación de PRMSDC?Nuestro equipo está aquí para guiarle paso a paso. \n🧭 En este Webinar de Orientación Pre-Certificación\, conocerá:\n\n\nCómo funciona el proceso de certificación \n\n\nQué documentos se requieren y cómo prepararlos \n\n\nRecursos clave que le apoyarán en su solicitud \n\n\nCómo la certificación MBE le conecta con nuevas oportunidades y alianzas corporativas \n\n\n🎙️ Orador invitado:Joseph Rosales RodríguezCoordinador Sección 3 | Cumplimiento Federal y Manejo de SubrecipientesDepartamento de la Vivienda de Puerto Rico \nEsta sesión interactiva está diseñada para ofrecerle claridad\, seguridad y respuestas en vivo de parte de nuestro equipo. \n🌟 Aspectos destacados del programa\n✔️ Guía paso a paso sobre el proceso de solicitud✔️ Consejos para preparar su documentación✔️ Beneficios de obtener la certificación MBE✔️ Preguntas y respuestas en vivo con el equipo de PRMSDC✔️ Sesiones virtuales mensuales vía Microsoft Teams \nDé el primer paso hacia la certificación.👉 Regístrese hoy.PRMSDC — La Plataforma para Tu Éxito \n  \nFor more information\, please contact:\nCarmen Peña\ncpena@prmsdc.org\n(787) 303-7265
URL:https://prmsdc.org/event/get-mbe-certified-september-2026/
LOCATION:PR
CATEGORIES:Pre-Orientation Workshop
ATTACH;FMTTYPE=image/jpeg:https://prmsdc.org/wp-content/uploads/2025/02/feature-images-PO-Workshop.jpg
END:VEVENT
BEGIN:VEVENT
DTSTART;TZID=America/Puerto_Rico:20260930T150000
DTEND;TZID=America/Puerto_Rico:20260930T153000
DTSTAMP:20260425T234446
CREATED:20260305T201459Z
LAST-MODIFIED:20260305T201459Z
UID:30336-1790780400-1790782200@prmsdc.org
SUMMARY:30 Minutes Power Break-Sept. 2026
DESCRIPTION:MBE2MBE 30 Minutes Power Break\n(Spanish version below) \nDiscover the true potential of your MBE Certification in just 30 powerful minutes. Join us for an inspiring conversation that highlights how certified suppliers in Puerto Rico are teaming up to grow\, innovate\, and add value to their businesses and the local economy. \nThrough a real-world case study\, you’ll hear how two successful MBEs are working together to serve the regulated industry\, demonstrating that collaboration between peers is not only possible — it’s profitable. \nDo you currently source services or products to operate your business? You might be overlooking opportunities to do so with fellow certified MBEs. \nInterested in sharing your own success story? You could be next.This platform is open to PRMSDC-certified suppliers who want to showcase how strategic partnerships and collaboration are driving real results. \n💡 Join us to learn from your peers\, discover new ideas\, and strengthen the MBE network in Puerto Rico. \nFor more information\, please contact:\nCarmen Peña\ncpena@prmsdc.org\n(787) 303-7265 \nFollow us on Facebook to stay updated on our latest news\, events\, and opportunities. \n  \n  \nMBE2MBE 30 MINUTES POWER BREAK\nDescubre el verdadero potencial de tu Certificación MBE en solo 30 poderosos minutos. Acompáñanos en una conversación inspiradora que destaca cómo los suplidores certificados en Puerto Rico están colaborando para crecer\, innovar y añadir valor a sus negocios y a la economía local. \nA través de un caso de estudio real\, escucharás cómo dos MBEs exitosos están trabajando juntos para servir a la industria regulada\, demostrando que la colaboración entre colegas no solo es posible — también es rentable. \n¿Actualmente adquieres servicios o productos para operar tu negocio?Podrías estar pasando por alto oportunidades de hacerlo con otros MBEs certificados. \n¿Te gustaría compartir tu propia historia de éxito? ¡Tú podrías ser el próximo!Esta plataforma está abierta a suplidores certificados por PRMSDC que deseen mostrar cómo las alianzas estratégicas y la colaboración están generando resultados reales. \n💡 Únete para aprender de tus pares\, descubrir nuevas ideas y fortalecer la red de MBEs en Puerto Rico. \nSíguenos en Facebook para mantenerte al día con nuestras últimas noticias\, eventos y oportunidades. \nPara más información\, favor de comunicarse con:Carmen Peñacpena@prmsdc.org(787) 303-7265
URL:https://prmsdc.org/event/30-minutes-power-break-sept-2026/
LOCATION:PR
CATEGORIES:MBE2MBE Power Break
ATTACH;FMTTYPE=image/jpeg:https://prmsdc.org/wp-content/uploads/2025/03/feature-images-Powerbreaks.jpg
END:VEVENT
END:VCALENDAR