BEGIN:VCALENDAR
VERSION:2.0
PRODID:-//Puerto Rico Minority Supplier Development Council - ECPv6.15.20//NONSGML v1.0//EN
CALSCALE:GREGORIAN
METHOD:PUBLISH
X-WR-CALNAME:Puerto Rico Minority Supplier Development Council
X-ORIGINAL-URL:https://prmsdc.org
X-WR-CALDESC:Events for Puerto Rico Minority Supplier Development Council
REFRESH-INTERVAL;VALUE=DURATION:PT1H
X-Robots-Tag:noindex
X-PUBLISHED-TTL:PT1H
BEGIN:VTIMEZONE
TZID:America/Puerto_Rico
BEGIN:STANDARD
TZOFFSETFROM:-0400
TZOFFSETTO:-0400
TZNAME:AST
DTSTART:20250101T000000
END:STANDARD
END:VTIMEZONE
BEGIN:VEVENT
DTSTART;TZID=America/Puerto_Rico:20260423T080000
DTEND;TZID=America/Puerto_Rico:20260424T170000
DTSTAMP:20260423T141048
CREATED:20260213T133149Z
LAST-MODIFIED:20260213T133149Z
UID:30233-1776931200-1777050000@prmsdc.org
SUMMARY:NMSDC Minority Business Economic Forum
DESCRIPTION:Inspired by the World Economic Forum\, the Forum will be the leading event where NMSDC and its partners tap the top leaders of corporate America\, the Administration\, and the leading thought academic leaders to recalibrate the MBE narrative to be an integral part of the American economy. \nThe Forum seeks to: \n\n\nGalvanize a vanguard of chief officers to amplify the impact and influence of MBEs on the American economy. \n\n\nGenerate corporate spend and pledges towards $1 trillion in certified MBE revenue. \n\n\nSpark actionable solutions to the critical challenges minority businesses face\, including access to contracts\, capital\, and information. \n\n\nForge pivotal relationships between Corporate Plus MBEs and key C-suite leadership. \n\n\n\n\n\n\n\nFor more information\, please access: nmsdc.org \n 
URL:https://prmsdc.org/event/nmsdc-minority-business-economic-forum/
CATEGORIES:NMSDC Event
ATTACH;FMTTYPE=image/jpeg:https://prmsdc.org/wp-content/uploads/2025/03/feature-images-NMSDC-economic-forum.jpg
END:VEVENT
BEGIN:VEVENT
DTSTART;TZID=America/Puerto_Rico:20260428T090000
DTEND;TZID=America/Puerto_Rico:20260428T110000
DTSTAMP:20260423T141048
CREATED:20260108T144020Z
LAST-MODIFIED:20260108T175927Z
UID:30072-1777366800-1777374000@prmsdc.org
SUMMARY:MAXIMIZE your PRMSDC PARTNERSHIP - April 2026
DESCRIPTION:🌟 Maximize Your PRMSDC Certification!\nA virtual orientation for newly certified MBEs \nYour certification is just the beginning — now it’s time to unlock its full potential. \nJoin us for a dynamic and interactive session designed to help you make the most of your PRMSDC certification. Whether you’re recently certified or looking to reconnect\, this session will guide you through the tools\, resources\, and connections available to help you grow your business. \n🎯 What you’ll gain:\n\n\nA clear understanding of how to leverage your PRMSDC certification \n\n\nAn overview of programs and services designed to support your development \n\n\nLive Q&A with PRMSDC staff \n\n\nNetworking with other certified MBEs \n\n\n🎥 We encourage you to join with your camera on — real connections make a real difference. \nLet’s turn your certification into your next big opportunity. \n💻 Register Now\n\n🌟 ¡Maximiza tu Certificación con PRMSDC!\nOrientación virtual para nuevas empresas certificadas MBE \nTu certificación es solo el comienzo — ahora es momento de aprovecharla al máximo. \nParticipa en esta sesión interactiva diseñada para ayudarte a sacarle el mayor provecho a tu certificación con PRMSDC. Ya sea que te hayas certificado recientemente o quieras reactivarte\, esta orientación te dará las herramientas para avanzar con confianza. \n🎯 ¿Qué aprenderás?\n\n\nCómo sacar el máximo valor de tu certificación \n\n\nProgramas y servicios disponibles para apoyar tu crecimiento \n\n\nSesión de preguntas y respuestas en vivo con el equipo de PRMSDC \n\n\nConexión directa con otras empresas MBE certificadas \n\n\n🎥 Recomendamos conectarte con tu cámara encendida para fomentar conexiones más cercanas. \n¡Convirtamos tu certificación en tu próxima gran oportunidad! \n📅 RESERVA TU ESPACIO\nPara más información | For more information\, please contact:\nCarmen Peña\ncpena@prmsdc.org\n(787) 303-7265
URL:https://prmsdc.org/event/maximize-your-prmsdc-partnership-april-2026/
LOCATION:Microsoft Teams
CATEGORIES:MBE General Orientation
ATTACH;FMTTYPE=image/jpeg:https://prmsdc.org/wp-content/uploads/2025/02/feature-images-MBE-Orientation.jpg
END:VEVENT
END:VCALENDAR